BEGIN:VCALENDAR
VERSION:2.0
PRODID:-//BPW Switzerland//NONSGML kigkonsult.se iCalcreator 2.16.12//
METHOD:PUBLISH
X-MS-OLK-FORCEINSPECTOROPEN:TRUE
BEGIN:VEVENT
UID:20260421T165859CEST-5152xuhhga@BPW Switzerland
DTSTAMP:20260421T145859Z
DESCRIPTION:BPW Club Kreuzlingen lädt zu einem Online-Webinar mit Christina
  Roduner\n\nInstagram ist aus der heutigen digitalen Welt nicht mehr wegzu
 denken.\nJung und Alt veröffentlichen Fotos und Stories\, entdecken täglic
 h Neues und folgen Firmen und Organisationen\, um auf dem Laufenden zu ble
 iben.\nWeltweit nutzen rund 1 Milliarde Menschen Instagram und mit rund 2\
 ,5 Millionen Menschen ist dieser Kanal auch in der Schweiz sehr beliebt.\n
 Zeit\, sich Gedanken über einen wirkungsvollen Auftritt zu machen.\n \nIm 
 Online-Webinar zeigt Insta-Profi Cristina Roduner wie Instagram funktionie
 rt.\nAusserdem ermöglicht sie spannende Einblicke\, zeigt wirkungsvolle St
 rategien und vermittelt Anregungen für einen sympathischen Auftritt.\n \nW
 ann: Mittwoch\, 24. Februar 2021 um 19:00 Uhr\n\nDer Live-Vortrag dauert c
 irca 1 Stunde oder etwas mehr.\nIm Anschluss hat es Raum für individuelle 
 Fragen.\n\nEs ist kein Instagram-Account notwendig.\n\nAnmeldung: bitte üb
 er den untenstehenden Link bis zum 19. Februar\n\nZur Anmeldung \n\n 
DTSTART:20210224T190000
DTEND:20210224T203000
LOCATION:Online
ORGANIZER:MAILTO:BPW Switzerland <info@bpw.ch>
SUMMARY:Auf Instagram als Firma oder Unternehmerin überzeugen
END:VEVENT
END:VCALENDAR
