BEGIN:VCALENDAR
VERSION:2.0
PRODID:-//BPW Switzerland//NONSGML kigkonsult.se iCalcreator 2.16.12//
METHOD:PUBLISH
X-MS-OLK-FORCEINSPECTOROPEN:TRUE
BEGIN:VEVENT
UID:20260422T131758CEST-8018BztU4m@BPW Switzerland
DTSTAMP:20260422T111758Z
DESCRIPTION:\n \n\nLohngleichheit ist auch heute noch keine Selbstverständl
 ichkeit – und das wollen wir ändern. Der Frauendachverband alliance F und 
 BPW Switzerland spannen zum Equal Pay Day 2023 zusammen\, damit noch mehr 
 Unternehmen öffentlich für Lohngleichheit einstehen.\n\nCheck your Salary 
 ist ein bestehendes Projekt von alliance F\, das Arbeitgeber:innen und Arb
 eitnehmer:innen einfach und niederschwellig rund um das Thema Lohn- und Ch
 ancengleichheit informiert. Mit einem Positiv-Wettbewerb wurde im Herbst 2
 022 eine Bewegung von modernen Unternehmen angekurbelt\, die sich für eine
 n attraktiven Arbeitsmarkt und faire Löhne einsetzen.\nDiese Bewegung wird
  durch die Kooperation zwischen alliance F und BPW Switzerland anlässlich 
 des Equal Pay Day 2023 eine neue Dynamik erhalten. Wir möchten gemeinsam d
 ie Lohnlücken schliessen – damit zukünftige Equal Pay Days bereits auf den
  1. Januar fallen. Ganz im Sinne von Unternehmen motivieren Unternehmen\, 
 sollen laufend neue (insbesondere kleinere) Betriebe zum Lohncheck mobilis
 iert werden. Mit Logib 2\, das sich an KMUs unter 100 Angestellten richtet
 \, hat der Bund sein Lohnanalysetool weiterentwickelt. Damit könne auch kl
 einere Betriebe ihr Lohngefüge auf einfache Art und Weise freiwillig analy
 sieren.\nJetzt sind alle Unternehmerinnen und Arbeitgeber:innen gefragt – 
 erkundigen Sie sich auf der Informationsseite über die Teilnahmebedingunge
 n und melden Sie sich noch heute für den Equal Pay Day-Wettbewerb an. Mind
 estvoraussetzung ist ein Lohncheck mit Logib oder einem anderen Lohnanalys
 etool. Mehr Informationen zu Logib 1 und 2 finden sich hier. Mitmachen loh
 nt sich: Sie werden Teil unserer Kampagne\, stärken die Lohngleichheits-Be
 wegung in der Schweiz und erhalten Visibilität über die Kanäle von allianc
 e F und BPW Switzerland.\n \n\n\n
DTSTART:20230218T000000
DTEND:20230218T235900
LOCATION:Ganze Schweiz
ORGANIZER:MAILTO:BPW Switzerland <info@bpw.ch>
SUMMARY:Equal Pay Day 2023
END:VEVENT
END:VCALENDAR
