BEGIN:VCALENDAR
VERSION:2.0
PRODID:-//BPW Switzerland//NONSGML kigkonsult.se iCalcreator 2.16.12//
METHOD:PUBLISH
X-MS-OLK-FORCEINSPECTOROPEN:TRUE
BEGIN:VEVENT
UID:20260421T101120CEST-6461jvmaUU@BPW Switzerland
DTSTAMP:20260421T081120Z
DESCRIPTION: \nYoung BPW Switzerland lädt herzlich ein zum Young-BPW Sommer
 anlass in Thun!\n\nHier findet ihr das vollständige Programm! \n\nWann: Sa
 mstag 19.08.2023\, ab 10 Uhr\nWo: The Lab Hotel Thun und auf dem Thunersee
 \n\n10 - 12 Uhr: Workshop mit Tanja Mäder\n\nThema: It's up to you - Entde
 cke deine Power! Mentale Resilienz und was du tun kannst\, wenn es brenzli
 g wird\n\nTanja Mäder ist diplomierte Personal Trainerin SPA und leidensch
 aftliche Kickboxerin. Sie leitet ein online Fitnessstudio mit regelmässige
 n Gruppentrainings und bietet 1:1 Sessions online oder live an. Tanja hilf
 t ihren Klient*innen\, durch ein gezieltes und individuelles Training ihre
  Sportziele zu erreichen. Ihre Spezialgebiete und ihre Leidenschaft sind K
 ampfsport und Selbstverteidigung. Durch diese Art des Trainings hilft sie 
 ihren Klient*innen\, die eigene psychische und physische Stärke zu entdeck
 en und selbstbewusster und fitter zu werden. Sie bietet auch spezielle Kam
 pfsport und Selbstverteidigungsanlässe als Teambuilding Events an.\n\nTanj
 a spendet einen Teil ihres Einkommens des Online Gym und gewisser Kurse an
  humanitäre Organisationen\, die Frauen unterstützen. Mehr Infos findest d
 u auf www.itsuptoyou.ch. Sie redet in ihrem englischen #Fight4love Podcast
  über Gesundheit\, Empowerment und Training. In ihrem schweizerdeutschen P
 odcast 'Mir Kampfsportlerinne' geht es um Frauen und Kampfsport.\n\nAb 12:
 30 Uhr: Lunch im Strandbad Thun\, Trip mit dem Loungeboot\n\nIm Pricing in
 kludiert ist ein Gruppeneintritt ins Strandbad Strämu und eine Stunde Miet
 e mit dem Ponton-Boot inkl. Snacks\n\nPricing\n\n\n	\n	Workshop mit T. Mäder
  für Young BPW und BPW Mitglieder: CHF 20.-\n	\n	\n	Workshop mit T. Mäder für
  Externe (non-BPW): CHF 30.-\n	\n	\n	Strandbad & Bootstrip auf dem Thunersee:
  CHF 15.-\n\n	Die Anmeldung für diesen Event ist geschlossen.\n	\n\n\n
DTSTART:20230819T100000
DTEND:20230819T170000
LOCATION:The Lab Hotel\, Thun
ORGANIZER:MAILTO:BPW Switzerland <info@bpw.ch>
SUMMARY:Young BPW Sommeranlass in Thun 
END:VEVENT
END:VCALENDAR
