BEGIN:VCALENDAR
VERSION:2.0
PRODID:-//BPW Switzerland//NONSGML kigkonsult.se iCalcreator 2.16.12//
METHOD:PUBLISH
X-MS-OLK-FORCEINSPECTOROPEN:TRUE
BEGIN:VEVENT
UID:20260421T130544CEST-1087G7L37c@BPW Switzerland
DTSTAMP:20260421T110544Z
DESCRIPTION:Flexible Arbeits(zeit)modelle können die Vereinbarkeit von Fami
 lie und Beruf erhöhen\, wenn sie gut eingeführt sind. Was Job-Sharing\, To
 p-Sharing\, Joint Leadership\, Job-Tandem\, Arbeitsplatzteilung… von Arbei
 tgebern\, aber auch von Seiten Mitarbeitende braucht\, um zu gelingen\, er
 fahrt ihr von unserer Gastreferentin Esther Himmen\, die sich auf die Bera
 tung von Unternehmen zu diesen Themen spezialisiert hat. Sie wird aufzeige
 n\, wie innovative Arbeitsmodelle angewendet werden können\, um Verantwort
 ung ohne Einbussen von Effektivität zu teilen – übrigens auch nicht immer 
 im Teilzeitpensum. \n\nKonkrete Praxis-Beispiele\, wie sie im Alltag diese
  Modelle bereits erfolgreich umsetzen\, werden uns «Tandems» der SBB Cargo
  AG und der IWB bringen. Wir sprechen mit dieser Veranstaltung Frauen und 
 Männer an\, die sich in unterschiedlichen Phasen der Familienplanung befin
 den und an Eltern\, die bereits Erfahrungen einbringen können/möchten. \n
 \nMontag\, 27. Januar 2025\, \n19:00 – 20:30 Uhr\nOnline via Zoom\nDer Lin
 k wird kurz vor der Veranstaltung gemailt.\n\nAnmeldung bis 24. Januar 202
 5. Keine Kosten.\n\nHier geht es zur Anmeldung: https://bpw-basel.ch/Veran
 staltungen/Details/An-Abmelden?id=764&date=1738000800
DTSTART:20250127T190000
DTEND:20250127T203000
LOCATION:Online via Zoom
ORGANIZER:MAILTO:BPW Switzerland <info@bpw.ch>
SUMMARY:Erfahrungsschatz Beruf/Karriere UND Familie
END:VEVENT
END:VCALENDAR
