BEGIN:VCALENDAR
VERSION:2.0
PRODID:-//BPW Switzerland//NONSGML kigkonsult.se iCalcreator 2.16.12//
METHOD:PUBLISH
X-MS-OLK-FORCEINSPECTOROPEN:TRUE
BEGIN:VEVENT
UID:20260421T101311CEST-0010otoaNh@BPW Switzerland
DTSTAMP:20260421T081311Z
DESCRIPTION:\nBPW Club Davos Klosters and BPW Switzerland cordially invite 
 everyone to the weekend of the 79th Assembly of Delegates in Klosters!\n\n
 Venue\n\nKulturhuus Klosters\, Landstrasse 173\, 7250 Klosters \n\nHere yo
 u can find the programme and all information about the weekend of the Asse
 mbly of Delegates \n\nImportant to know:\n\nEarly bird prices apply until 
 30 April 2026!\n\nTo benefit from this\, please enter the code EarlyBird_D
 V26 in the shopping basket in the corresponding field at the top right and
  click on the plus sign. Then select the discounted price from the list.\n
 \nRegistration is binding. If you cancel by 30.05.2026\, a change or cance
 llation fee of CHF 30.00 will be charged. In the event of later cancellati
 on or no cancellation\, the entire participation fee will be charged.\n\nR
 egistration for the Alumnae Meeting on Friday\, 19 June 2026\n\nEarly Bird
  Code: EarlyBird_DV26\n\n \n\n\nRegistration for the programme on Saturday
 \, 20 June 2026\n\nEarly Bird Code: EarlyBird_DV26\n\n\n\nDisclaimer:\nPho
 tographs and/or film recordings (including sound) will be made of the week
 end of the Delegates' Meeting. Anyone who does not wish to be photographed
  or filmed can contact the photographer or camerawoman directly. The recor
 dings may be used by BPW for online communication\, social media\, newslet
 ters\, website\, print media\, etc. and will be archived by BPW Switzerlan
 d. \n\n
DTSTART:20260619T000000
DTEND:20260620T000000
LOCATION:Kulturhuus Davos Klosters Platz 
ORGANIZER:MAILTO:BPW Switzerland <info@bpw.ch>
SUMMARY:Assembly of Delegates 2026
END:VEVENT
END:VCALENDAR
