BEGIN:VCALENDAR
VERSION:2.0
PRODID:-//BPW Switzerland//NONSGML kigkonsult.se iCalcreator 2.16.12//
METHOD:PUBLISH
X-MS-OLK-FORCEINSPECTOROPEN:TRUE
BEGIN:VEVENT
UID:20260421T112208CEST-6043mMsOvF@BPW Switzerland
DTSTAMP:20260421T092208Z
DESCRIPTION: \nWir laden herzlich ein zum Empowerment Lunchtalk am 24. Augu
 st 2023 um 12 Uhr\, online via Zoom.\n\nAls Referentinnen begrüssen wir di
 eses Mal ganz herzlich Julia Conrad und Tanja Schumacher\, Finanzplanerinn
 en der Graubündner Kantonalbank\, sowie Gianna Meier als Moderatorin.\n\nV
 orsorge ist auch Frauensache. Wann ist der richtige Zeitpunkt\, um sich üb
 er die persönliche Vorsorge Gedanken zu machen? Am besten so früh wie mögl
 ich. Grundsätzlich ist Vorsorge ein Thema\, das uns alle angeht. Denn es g
 ibt verschiedene Umstände\, welche die finanzielle Freiheit im Alter gefäh
 rden können. Dies betrifft aktuell in der Schweiz vor allem Frauen\, welch
 e in über 90% der Fälle ein nichtlineares Erwerbsleben haben. Der gesellsc
 haftliche Wertewandel bewirkt\, dass immer mehr Arbeitnehmende in Teilzeit
 pensen tätig sind oder Erwerbsunterbrüche haben. Wir zeigen auf\, wie das 
 Schweizer Vorsorgesystem aufgebaut ist\, worauf „Frau“ besonders achten so
 llte und\, wie die persönliche Vorsorge gestärkt werden kann. Damit aus Vo
 rsorge Vorfreude wird.\n\nDie Veranstaltung wird online in deutscher Sprac
 he durchgeführt und ist kostenlos.\n\nWir bitten um Anmeldung unter diesem
  Link bis spätestens 22. August 2023.\n \n\n
DTSTART:20230824T120000
DTEND:20230824T133000
LOCATION:Online via Zoom
ORGANIZER:MAILTO:BPW Switzerland <info@bpw.ch>
SUMMARY:Wir Frauen packen die Zukunft an - wie gelingt dies insbesondere in
  der Vorsorge? 
END:VEVENT
END:VCALENDAR
