BEGIN:VCALENDAR
VERSION:2.0
PRODID:-//BPW Switzerland//NONSGML kigkonsult.se iCalcreator 2.16.12//
METHOD:PUBLISH
X-MS-OLK-FORCEINSPECTOROPEN:TRUE
BEGIN:VEVENT
UID:20260421T113049CEST-9763mfELLA@BPW Switzerland
DTSTAMP:20260421T093049Z
DESCRIPTION:\n'Est-ce que tu as du temps?'\n\nD’après l’enquête suisse sur 
 la structure des salaires (2022)\, la différence de salaire actuelle est d
 e 12 %. La différence de salaire est illégale et va à l’encontre de la loi
  sur l’égalité inscrite dans la Constitution fédérale.\n\nLa date de l’Equ
 al Pay Day varie d’une année sur l’autre étant donné qu’elle reflète la di
 fférence de salaire du moment. Alors qu’un homme touchera son salaire à pa
 rtir du 1er janvier 2025\, une femme\, elle\, avant de percevoir le sien\,
  travaillera gratuitement 12 %\, c’est-à-dire jusqu’au 15 février 2025. \n
 \nVoici comment nous célébrerons le prochain Equal Pay Day\, le 15 février
  2025:\n\nComme chaque année\, nous mettons à nouveau l'accent sur un thèm
 e essentiel: Inégalité salariale et la ressource temps.\n\nVous souhaitez 
 en savoir plus ? Alors cliquez ici.\n\nPour découvrir les multiples action
 s de divers clubs\, cliquez ici.\n \n\n\n
DTSTART:20250215T000000
DTEND:20250215T235900
LOCATION:Schweizweit 
ORGANIZER:MAILTO:BPW Switzerland <info@bpw.ch>
SUMMARY:Equal Pay Day 2025
END:VEVENT
END:VCALENDAR
