BEGIN:VCALENDAR
VERSION:2.0
PRODID:-//BPW Switzerland//NONSGML kigkonsult.se iCalcreator 2.16.12//
METHOD:PUBLISH
X-MS-OLK-FORCEINSPECTOROPEN:TRUE
BEGIN:VEVENT
UID:20260421T101119CEST-4751zjmukB@BPW Switzerland
DTSTAMP:20260421T081119Z
DESCRIPTION:\nLe BPW Club Davos Klosters et BPW Switzerland vous invitent c
 ordialement au week-end de la 79e Assemblée des déléguées à Klosters !\n\n
 Lieu de déroulement\n\nKulturhuus Klosters\, Landstrasse 173\, 7250 Kloste
 rs\n\nVous trouverez ici le programme et toutes les informations sur le we
 ek-end de l'Assemblée des déléguées.\n\nIl est important de savoir :\n\nJu
 squ'au 30 avril 2026\, les tarifs «early bird» sont en vigueur!\n\nPour en
  profiter\, veuillez saisir le code EarlyBird_DV26 dans le champ correspon
 dant en haut à droite du panier et cliquer sur le plus. Choisissez ensuite
  le prix réduit dans la liste.\n\nL'inscription est définitive. En cas de 
 désinscription avant le 30.05.2026\, des frais de modification ou d'annula
 tion de CHF 30.00 sont dus. En cas de désistement ultérieur ou en l'absenc
 e de désistement\, la totalité des frais de participation sera facturée.\n
 \nInscription à l'Alumnae Meeting du vendredi 19 juin 2026\n\nEarly Bird C
 ode: EarlyBird_DV26\n\n \n\n\nInscription au programme du samedi 20 juin 2
 026\n\nEarly Bird Code: EarlyBird_DV26\n\n \n\n\nDisclaimer:\nDes photos e
 t/ou des films (son compris) seront réalisés durant le week-end de l'Assem
 blée des délégués. Les personnes qui ne souhaitent pas être photographiées
  ou filmées peuvent s'adresser directement à la photographe ou à la caméra
 man. Les prises de vue peuvent être utilisées par BPW pour la communicatio
 n en ligne\, les médias sociaux\, la newsletter\, le site web\, les médias
  imprimés\, etc. et elles seront archivées par BPW Switzerland.\n\n
DTSTART:20260619T000000
DTEND:20260620T000000
LOCATION:Kulturhuus Davos Klosters Platz 
ORGANIZER:MAILTO:BPW Switzerland <info@bpw.ch>
SUMMARY:Assemblée des délégués 2026
END:VEVENT
END:VCALENDAR
