BEGIN:VCALENDAR
VERSION:2.0
PRODID:-//BPW Switzerland//NONSGML kigkonsult.se iCalcreator 2.16.12//
METHOD:PUBLISH
X-MS-OLK-FORCEINSPECTOROPEN:TRUE
BEGIN:VEVENT
UID:20260421T101131CEST-5608oTb6Vp@BPW Switzerland
DTSTAMP:20260421T081131Z
DESCRIPTION:\nIl BPW Club Davos Klosters e BPW Switzerland invitano tutti a
  partecipare al weekend della 79a Assemblea delle Delegate a Klosters!\n\n
 Location\n\nKulturhuus Klosters\, Landstrasse 173\, 7250 Klosters \n\nQui 
 trovate il programma e tutte le informazioni sul fine settimana dell'assem
 blea delle delegate\n\nÈ importante sapere che:\n\nI prezzi Early Bird son
 o validi fino al 30 aprile 2026!\n\nPer usufruirne\, inserire il codice Ea
 rlyBird_DV26 nel carrello nel campo corrispondente in alto a destra e clic
 care sul segno più. Quindi selezionare il prezzo scontato dall'elenco.\n\n
 L'iscrizione è vincolante. In caso di disdetta entro il 30.05.2026\, verrà
  addebitata una tassa di modifica o di cancellazione di CHF 30.00. In caso
  di cancellazione successiva o di mancata cancellazione\, verrà addebitata
  l'intera quota di partecipazione.\n\nRegistrazione per la Alumnae Meeting
  di venerdì 19 giugno 2026\n\nEarly Bird Code: EarlyBird_DV26\n\n \n\n\nRe
 gistrazione per il programma di sabato 20 giugno 2026\n\nEarly Bird Code: 
 EarlyBird_DV26\n\n \n\n\nDisclaimer:\nDurante il fine settimana dell'Assem
 blea delle delegate verranno effettuate fotografie e/o riprese (anche sono
 re). Chi non desidera essere fotografato o filmato può contattare direttam
 ente il fotografo o l'operatrice. Le registrazioni potranno essere utilizz
 ate da BPW per comunicazioni online\, social media\, newsletter\, sito web
 \, stampa\, ecc. e saranno archiviate da BPW Switzerland.\n\n
DTSTART:20260619T000000
DTEND:20260620T000000
LOCATION:Kulturhuus Davos Klosters Platz 
ORGANIZER:MAILTO:BPW Switzerland <info@bpw.ch>
SUMMARY:Assemblea delle Dellegate 2026
END:VEVENT
END:VCALENDAR
